BEGIN:VCALENDAR
VERSION:2.0
PRODID:-//St Columba&#039;s School - ECPv6.3.5//NONSGML v1.0//EN
CALSCALE:GREGORIAN
METHOD:PUBLISH
X-ORIGINAL-URL:https://www.stcolsbays.wa.edu.au
X-WR-CALDESC:Events for St Columba&#039;s School
REFRESH-INTERVAL;VALUE=DURATION:PT1H
X-Robots-Tag:noindex
X-PUBLISHED-TTL:PT1H
BEGIN:VTIMEZONE
TZID:Australia/Perth
BEGIN:STANDARD
TZOFFSETFROM:+0800
TZOFFSETTO:+0800
TZNAME:AWST
DTSTART:20260101T000000
END:STANDARD
END:VTIMEZONE
BEGIN:VEVENT
DTSTART;TZID=Australia/Perth:20260502T180000
DTEND;TZID=Australia/Perth:20260502T180000
DTSTAMP:20260420T163223
CREATED:20251212T044310Z
LAST-MODIFIED:20251212T044310Z
UID:6187-1777744800-1777744800@www.stcolsbays.wa.edu.au
SUMMARY:Community Mass - Enrolment for Penance and First Holy Communion
DESCRIPTION:
URL:https://www.stcolsbays.wa.edu.au/event/community-mass-enrolment-for-penance-and-first-holy-communion
END:VEVENT
BEGIN:VEVENT
DTSTART;VALUE=DATE:20260507
DTEND;VALUE=DATE:20260509
DTSTAMP:20260420T163223
CREATED:20251212T045651Z
LAST-MODIFIED:20260401T005826Z
UID:6193-1778115600-1778201999@www.stcolsbays.wa.edu.au
SUMMARY:Reconciliation - Family Workshop
DESCRIPTION:3G – 4.00pm – 5.00pm \n3W – 5.15pm – 6.15pm
URL:https://www.stcolsbays.wa.edu.au/event/reconciliation-family-workshop
END:VEVENT
BEGIN:VEVENT
DTSTART;TZID=Australia/Perth:20260508T073000
DTEND;TZID=Australia/Perth:20260508T083000
DTSTAMP:20260420T163223
CREATED:20251212T045510Z
LAST-MODIFIED:20251212T045510Z
UID:6189-1778225400-1778229000@www.stcolsbays.wa.edu.au
SUMMARY:Mother's Day Breakfast
DESCRIPTION:
URL:https://www.stcolsbays.wa.edu.au/event/mothers-day-breakfast-3
END:VEVENT
BEGIN:VEVENT
DTSTART;TZID=Australia/Perth:20260508T090000
DTEND;TZID=Australia/Perth:20260508T100000
DTSTAMP:20260420T163223
CREATED:20251212T045600Z
LAST-MODIFIED:20251212T045600Z
UID:6191-1778230800-1778234400@www.stcolsbays.wa.edu.au
SUMMARY:Mother's Day Mass (PP-Y6)
DESCRIPTION:
URL:https://www.stcolsbays.wa.edu.au/event/mothers-day-mass-pp-y6
END:VEVENT
BEGIN:VEVENT
DTSTART;VALUE=DATE:20260510
DTEND;VALUE=DATE:20260512
DTSTAMP:20260420T163223
CREATED:20251212T075128Z
LAST-MODIFIED:20251212T075128Z
UID:6285-1778374800-1778461199@www.stcolsbays.wa.edu.au
SUMMARY:Mother's Day
DESCRIPTION:
URL:https://www.stcolsbays.wa.edu.au/event/mothers-day-5
END:VEVENT
BEGIN:VEVENT
DTSTART;VALUE=DATE:20260514
DTEND;VALUE=DATE:20260516
DTSTAMP:20260420T163223
CREATED:20251212T050431Z
LAST-MODIFIED:20251212T050431Z
UID:6196-1778720400-1778806799@www.stcolsbays.wa.edu.au
SUMMARY:Reconciliation Reflection Day - Year 3
DESCRIPTION:
URL:https://www.stcolsbays.wa.edu.au/event/reconciliation-reflection-day-year-3
END:VEVENT
BEGIN:VEVENT
DTSTART;VALUE=DATE:20260515
DTEND;VALUE=DATE:20260517
DTSTAMP:20260420T163223
CREATED:20251217T060033Z
LAST-MODIFIED:20251217T060033Z
UID:6358-1778806800-1778893199@www.stcolsbays.wa.edu.au
SUMMARY:Italian Day
DESCRIPTION:
URL:https://www.stcolsbays.wa.edu.au/event/italian-day-4
END:VEVENT
BEGIN:VEVENT
DTSTART;TZID=Australia/Perth:20260522T183000
DTEND;TZID=Australia/Perth:20260522T183000
DTSTAMP:20260420T163223
CREATED:20251212T050639Z
LAST-MODIFIED:20251212T050639Z
UID:6200-1779474600-1779474600@www.stcolsbays.wa.edu.au
SUMMARY:Reconciliation Ceremony - Year 3
DESCRIPTION:
URL:https://www.stcolsbays.wa.edu.au/event/reconciliation-ceremony-year-3
END:VEVENT
BEGIN:VEVENT
DTSTART;VALUE=DATE:20260526
DTEND;VALUE=DATE:20260528
DTSTAMP:20260420T163223
CREATED:20251212T050706Z
LAST-MODIFIED:20251212T050706Z
UID:6202-1779757200-1779843599@www.stcolsbays.wa.edu.au
SUMMARY:Sorry Day
DESCRIPTION:
URL:https://www.stcolsbays.wa.edu.au/event/sorry-day-4
END:VEVENT
BEGIN:VEVENT
DTSTART;TZID=Australia/Perth:20260526T140000
DTEND;TZID=Australia/Perth:20260526T143000
DTSTAMP:20260420T163223
CREATED:20260320T012638Z
LAST-MODIFIED:20260320T012638Z
UID:6586-1779804000-1779805800@www.stcolsbays.wa.edu.au
SUMMARY:Launch of 'Jump Rope for Heart Program'
DESCRIPTION:
URL:https://www.stcolsbays.wa.edu.au/event/launch-of-jump-rope-for-heart-program
END:VEVENT
BEGIN:VEVENT
DTSTART;TZID=Australia/Perth:20260526T140000
DTEND;TZID=Australia/Perth:20260526T150000
DTSTAMP:20260420T163223
CREATED:20251212T050738Z
LAST-MODIFIED:20251217T043100Z
UID:6204-1779804000-1779807600@www.stcolsbays.wa.edu.au
SUMMARY:Assembly 5 - Merit Certifcates/Year 2 Item
DESCRIPTION:
URL:https://www.stcolsbays.wa.edu.au/event/assembly-5
END:VEVENT
BEGIN:VEVENT
DTSTART;VALUE=DATE:20260527
DTEND;VALUE=DATE:20260605
DTSTAMP:20260420T163223
CREATED:20251212T050833Z
LAST-MODIFIED:20251212T050936Z
UID:6206-1779843600-1780534799@www.stcolsbays.wa.edu.au
SUMMARY:Reconciliation Week
DESCRIPTION:
URL:https://www.stcolsbays.wa.edu.au/event/reconciliation-week-4
END:VEVENT
BEGIN:VEVENT
DTSTART;VALUE=DATE:20260528
DTEND;VALUE=DATE:20260530
DTSTAMP:20260420T163223
CREATED:20260211T031746Z
LAST-MODIFIED:20260211T031746Z
UID:6429-1779930000-1780016399@www.stcolsbays.wa.edu.au
SUMMARY:Cross Country Years 1-6
DESCRIPTION:
URL:https://www.stcolsbays.wa.edu.au/event/cross-country-years-1-6
END:VEVENT
BEGIN:VEVENT
DTSTART;VALUE=DATE:20260529
DTEND;VALUE=DATE:20260531
DTSTAMP:20260420T163223
CREATED:20251112T032143Z
LAST-MODIFIED:20251112T032143Z
UID:5973-1780016400-1780102799@www.stcolsbays.wa.edu.au
SUMMARY:Pupil Free Day
DESCRIPTION:
URL:https://www.stcolsbays.wa.edu.au/event/pupil-free-day-12
END:VEVENT
END:VCALENDAR