BEGIN:VCALENDAR
VERSION:2.0
PRODID:-//St Columba&#039;s School - ECPv6.3.5//NONSGML v1.0//EN
CALSCALE:GREGORIAN
METHOD:PUBLISH
X-WR-CALNAME:St Columba&#039;s School
X-ORIGINAL-URL:https://www.stcolsbays.wa.edu.au
X-WR-CALDESC:Events for St Columba&#039;s School
REFRESH-INTERVAL;VALUE=DURATION:PT1H
X-Robots-Tag:noindex
X-PUBLISHED-TTL:PT1H
BEGIN:VTIMEZONE
TZID:Australia/Perth
BEGIN:STANDARD
TZOFFSETFROM:+0800
TZOFFSETTO:+0800
TZNAME:AWST
DTSTART:20250101T000000
END:STANDARD
END:VTIMEZONE
BEGIN:VEVENT
DTSTART;VALUE=DATE:20251101
DTEND;VALUE=DATE:20251103
DTSTAMP:20260422T235334
CREATED:20241205T043734Z
LAST-MODIFIED:20241205T043734Z
UID:5242-1761958800-1762045199@www.stcolsbays.wa.edu.au
SUMMARY:All Saints Day
DESCRIPTION:
URL:https://www.stcolsbays.wa.edu.au/event/all-saints-day
END:VEVENT
BEGIN:VEVENT
DTSTART;VALUE=DATE:20251104
DTEND;VALUE=DATE:20251106
DTSTAMP:20260422T235334
CREATED:20241205T043815Z
LAST-MODIFIED:20241205T043815Z
UID:5244-1762218000-1762304399@www.stcolsbays.wa.edu.au
SUMMARY:Liturgy - Year 1
DESCRIPTION:Time TBC
URL:https://www.stcolsbays.wa.edu.au/event/liturgy-year-1
END:VEVENT
BEGIN:VEVENT
DTSTART;TZID=Australia/Perth:20251107T090000
DTEND;TZID=Australia/Perth:20251107T100000
DTSTAMP:20260422T235334
CREATED:20251027T020857Z
LAST-MODIFIED:20251027T020857Z
UID:5930-1762506000-1762509600@www.stcolsbays.wa.edu.au
SUMMARY:Kindy Ambulance Incursion on Basketball Court
DESCRIPTION:
URL:https://www.stcolsbays.wa.edu.au/event/kindy-ambulance-incursion-on-basketball-court
END:VEVENT
BEGIN:VEVENT
DTSTART;TZID=Australia/Perth:20251111T140000
DTEND;TZID=Australia/Perth:20251111T150000
DTSTAMP:20260422T235334
CREATED:20241205T043918Z
LAST-MODIFIED:20241205T043918Z
UID:5246-1762869600-1762873200@www.stcolsbays.wa.edu.au
SUMMARY:Assembly 11 - Remembrance Day
DESCRIPTION:Merit Certificates
URL:https://www.stcolsbays.wa.edu.au/event/assembly-11-remembrance-day
END:VEVENT
BEGIN:VEVENT
DTSTART;VALUE=DATE:20251118
DTEND;VALUE=DATE:20251120
DTSTAMP:20260422T235334
CREATED:20251106T073330Z
LAST-MODIFIED:20251106T073330Z
UID:5944-1763427600-1763513999@www.stcolsbays.wa.edu.au
SUMMARY:Year 5 Excursion - Fremantle Prison
DESCRIPTION:
URL:https://www.stcolsbays.wa.edu.au/event/year-5-excursion-fremantle-prison
END:VEVENT
BEGIN:VEVENT
DTSTART;TZID=Australia/Perth:20251118T090000
DTEND;TZID=Australia/Perth:20251118T223000
DTSTAMP:20260422T235334
CREATED:20241205T095436Z
LAST-MODIFIED:20241205T095436Z
UID:5252-1763456400-1763505000@www.stcolsbays.wa.edu.au
SUMMARY:Kindergerten 2026 Orientation
DESCRIPTION:Parents only
URL:https://www.stcolsbays.wa.edu.au/event/kindergerten-2026-orientation
END:VEVENT
BEGIN:VEVENT
DTSTART;TZID=Australia/Perth:20251118T180000
DTEND;TZID=Australia/Perth:20251118T190000
DTSTAMP:20260422T235334
CREATED:20241205T044339Z
LAST-MODIFIED:20241205T044339Z
UID:5256-1763488800-1763492400@www.stcolsbays.wa.edu.au
SUMMARY:CSAC Meeting
DESCRIPTION:
URL:https://www.stcolsbays.wa.edu.au/event/csac-meeting-12
END:VEVENT
BEGIN:VEVENT
DTSTART;VALUE=DATE:20251124
DTEND;VALUE=DATE:20251126
DTSTAMP:20260422T235334
CREATED:20250924T040734Z
LAST-MODIFIED:20250924T040734Z
UID:5884-1763946000-1764032399@www.stcolsbays.wa.edu.au
SUMMARY:Year 3 Excursion - WA Gould League\, Herdsman
DESCRIPTION:
URL:https://www.stcolsbays.wa.edu.au/event/year-3-excursion-wa-gould-league-herdsman
END:VEVENT
BEGIN:VEVENT
DTSTART;VALUE=DATE:20251124
DTEND;VALUE=DATE:20251126
DTSTAMP:20260422T235334
CREATED:20251106T074757Z
LAST-MODIFIED:20251106T074757Z
UID:5946-1763946000-1764032399@www.stcolsbays.wa.edu.au
SUMMARY:Champions Cup - Basketball
DESCRIPTION:
URL:https://www.stcolsbays.wa.edu.au/event/champions-cup-basketball
END:VEVENT
BEGIN:VEVENT
DTSTART;TZID=Australia/Perth:20251125T090000
DTEND;TZID=Australia/Perth:20251125T100000
DTSTAMP:20260422T235334
CREATED:20241205T044243Z
LAST-MODIFIED:20250925T050805Z
UID:5254-1764061200-1764064800@www.stcolsbays.wa.edu.au
SUMMARY:Pre-Kindergarten 2026 Orientation
DESCRIPTION:Parents only
URL:https://www.stcolsbays.wa.edu.au/event/pre-kindergarten-2026-orientation
END:VEVENT
BEGIN:VEVENT
DTSTART;TZID=Australia/Perth:20251126T180000
DTEND;TZID=Australia/Perth:20251126T200000
DTSTAMP:20260422T235334
CREATED:20241205T044459Z
LAST-MODIFIED:20241205T044459Z
UID:5258-1764180000-1764187200@www.stcolsbays.wa.edu.au
SUMMARY:Annual Community Meeting
DESCRIPTION:Staff\, CSAC & P&F\nDinner
URL:https://www.stcolsbays.wa.edu.au/event/annual-community-meeting
END:VEVENT
END:VCALENDAR