BEGIN:VCALENDAR
VERSION:2.0
PRODID:-//St Columba&#039;s School - ECPv6.3.5//NONSGML v1.0//EN
CALSCALE:GREGORIAN
METHOD:PUBLISH
X-WR-CALNAME:St Columba&#039;s School
X-ORIGINAL-URL:https://www.stcolsbays.wa.edu.au
X-WR-CALDESC:Events for St Columba&#039;s School
REFRESH-INTERVAL;VALUE=DURATION:PT1H
X-Robots-Tag:noindex
X-PUBLISHED-TTL:PT1H
BEGIN:VTIMEZONE
TZID:Australia/Perth
BEGIN:STANDARD
TZOFFSETFROM:+0800
TZOFFSETTO:+0800
TZNAME:AWST
DTSTART:20270101T000000
END:STANDARD
END:VTIMEZONE
BEGIN:VEVENT
DTSTART;VALUE=DATE:20271011
DTEND;VALUE=DATE:20271013
DTSTAMP:20260421T082915
CREATED:20251203T053412Z
LAST-MODIFIED:20251203T053412Z
UID:6110-1823216400-1823302799@www.stcolsbays.wa.edu.au
SUMMARY:Term 4 Commences for Staff and Students
DESCRIPTION:
URL:https://www.stcolsbays.wa.edu.au/event/term-4-commences-for-staff-and-students-2
END:VEVENT
BEGIN:VEVENT
DTSTART;VALUE=DATE:20271210
DTEND;VALUE=DATE:20271212
DTSTAMP:20260421T082915
CREATED:20251203T053451Z
LAST-MODIFIED:20251203T053451Z
UID:6112-1828400400-1828486799@www.stcolsbays.wa.edu.au
SUMMARY:Term 4 Concludes for Students
DESCRIPTION:
URL:https://www.stcolsbays.wa.edu.au/event/term-4-concludes-for-students
END:VEVENT
BEGIN:VEVENT
DTSTART;VALUE=DATE:20271217
DTEND;VALUE=DATE:20271219
DTSTAMP:20260421T082915
CREATED:20251203T053527Z
LAST-MODIFIED:20251203T053527Z
UID:6114-1829005200-1829091599@www.stcolsbays.wa.edu.au
SUMMARY:Term 4 Concludes for Staff
DESCRIPTION:
URL:https://www.stcolsbays.wa.edu.au/event/term-4-concludes-for-staff
END:VEVENT
END:VCALENDAR