BEGIN:VCALENDAR
VERSION:2.0
PRODID:-//St Columba&#039;s School - ECPv6.3.5//NONSGML v1.0//EN
CALSCALE:GREGORIAN
METHOD:PUBLISH
X-WR-CALNAME:St Columba&#039;s School
X-ORIGINAL-URL:https://www.stcolsbays.wa.edu.au
X-WR-CALDESC:Events for St Columba&#039;s School
REFRESH-INTERVAL;VALUE=DURATION:PT1H
X-Robots-Tag:noindex
X-PUBLISHED-TTL:PT1H
BEGIN:VTIMEZONE
TZID:Australia/Perth
BEGIN:STANDARD
TZOFFSETFROM:+0800
TZOFFSETTO:+0800
TZNAME:AWST
DTSTART:20240101T000000
END:STANDARD
END:VTIMEZONE
BEGIN:VEVENT
DTSTART;TZID=Australia/Perth:20240815T090000
DTEND;TZID=Australia/Perth:20240815T090000
DTSTAMP:20260422T073114
CREATED:20240419T040841Z
LAST-MODIFIED:20240807T045918Z
UID:4462-1723712400-1723712400@www.stcolsbays.wa.edu.au
SUMMARY:School Mass - Feast of the Assumption (Years 3 - 6 only)
DESCRIPTION:
URL:https://www.stcolsbays.wa.edu.au/event/school-mass-feast-of-the-assumption-2
END:VEVENT
BEGIN:VEVENT
DTSTART;VALUE=DATE:20240812
DTEND;VALUE=DATE:20240814
DTSTAMP:20260422T073114
CREATED:20240807T030328Z
LAST-MODIFIED:20240807T030328Z
UID:4835-1723424400-1723510799@www.stcolsbays.wa.edu.au
SUMMARY:U R Strong - Day of Friendship Lessons - Years 1 - 6
DESCRIPTION:
URL:https://www.stcolsbays.wa.edu.au/event/u-r-strong-day-of-friendship-lessons-years-1-6
END:VEVENT
BEGIN:VEVENT
DTSTART;TZID=Australia/Perth:20240812T000000
DTEND;TZID=Australia/Perth:20240817T000000
DTSTAMP:20260422T073114
CREATED:20240419T040753Z
LAST-MODIFIED:20240419T040753Z
UID:4429-1723420800-1723852800@www.stcolsbays.wa.edu.au
SUMMARY:National Science Week
DESCRIPTION:
URL:https://www.stcolsbays.wa.edu.au/event/national-science-week-2
END:VEVENT
BEGIN:VEVENT
DTSTART;TZID=Australia/Perth:20240810T180000
DTEND;TZID=Australia/Perth:20240810T190000
DTSTAMP:20260422T073114
CREATED:20240419T040842Z
LAST-MODIFIED:20240419T040842Z
UID:4463-1723312800-1723316400@www.stcolsbays.wa.edu.au
SUMMARY:Community Mass - Confirmation Enrolment
DESCRIPTION:
URL:https://www.stcolsbays.wa.edu.au/event/community-mass-confirmation-enrolment-2
END:VEVENT
BEGIN:VEVENT
DTSTART;TZID=Australia/Perth:20240809T084500
DTEND;TZID=Australia/Perth:20240809T091500
DTSTAMP:20260422T073114
CREATED:20240419T040842Z
LAST-MODIFIED:20240419T040842Z
UID:4464-1723193100-1723194900@www.stcolsbays.wa.edu.au
SUMMARY:Assembly 11 - Year 2 & Merit Certificates
DESCRIPTION:
URL:https://www.stcolsbays.wa.edu.au/event/assembly-11-year-2-merit-certificates-2
END:VEVENT
BEGIN:VEVENT
DTSTART;VALUE=DATE:20240807
DTEND;VALUE=DATE:20240809
DTSTAMP:20260422T073114
CREATED:20240613T235226Z
LAST-MODIFIED:20240613T235226Z
UID:4743-1722992400-1723078799@www.stcolsbays.wa.edu.au
SUMMARY:Year 4 & 5 GATE Excursion to Chisholm College
DESCRIPTION:
URL:https://www.stcolsbays.wa.edu.au/event/year-4-5-gate-excursion-to-chisholm-college
END:VEVENT
BEGIN:VEVENT
DTSTART;TZID=Australia/Perth:20240806T190000
DTEND;TZID=Australia/Perth:20240806T203000
DTSTAMP:20260422T073114
CREATED:20240419T040842Z
LAST-MODIFIED:20240419T040842Z
UID:4465-1722970800-1722976200@www.stcolsbays.wa.edu.au
SUMMARY:P&F Meeting
DESCRIPTION:
URL:https://www.stcolsbays.wa.edu.au/event/pf-meeting-8
END:VEVENT
BEGIN:VEVENT
DTSTART;TZID=Australia/Perth:20240802T084500
DTEND;TZID=Australia/Perth:20240802T091500
DTSTAMP:20260422T073114
CREATED:20240419T040851Z
LAST-MODIFIED:20240419T040851Z
UID:4470-1722588300-1722590100@www.stcolsbays.wa.edu.au
SUMMARY:Assembly 10 - Merit Certificates
DESCRIPTION:
URL:https://www.stcolsbays.wa.edu.au/event/assembly-10-merit-certificates-2
END:VEVENT
BEGIN:VEVENT
DTSTART;VALUE=DATE:20240802
DTEND;VALUE=DATE:20240804
DTSTAMP:20260422T073114
CREATED:20240509T082146Z
LAST-MODIFIED:20240509T082146Z
UID:4662-1722560400-1722646799@www.stcolsbays.wa.edu.au
SUMMARY:Principal Appreciation Day
DESCRIPTION:
URL:https://www.stcolsbays.wa.edu.au/event/principal-appreciation-day-3
END:VEVENT
BEGIN:VEVENT
DTSTART;VALUE=DATE:20240731
DTEND;VALUE=DATE:20240804
DTSTAMP:20260422T073114
CREATED:20240509T081954Z
LAST-MODIFIED:20240509T081954Z
UID:4657-1722387600-1722646799@www.stcolsbays.wa.edu.au
SUMMARY:Religious Education Assessment - Years 3 & 5
DESCRIPTION:
URL:https://www.stcolsbays.wa.edu.au/event/religious-education-assessment-years-3-5
END:VEVENT
BEGIN:VEVENT
DTSTART;TZID=Australia/Perth:20240726T083000
DTEND;TZID=Australia/Perth:20240726T083000
DTSTAMP:20260422T073114
CREATED:20240419T040708Z
LAST-MODIFIED:20240606T055528Z
UID:4414-1721982600-1721982600@www.stcolsbays.wa.edu.au
SUMMARY:Assembly 9 - Merit Certificates
DESCRIPTION:
URL:https://www.stcolsbays.wa.edu.au/event/assembly-9-merit-certificates-grandparents-welcome-2
END:VEVENT
BEGIN:VEVENT
DTSTART;VALUE=DATE:20240725
DTEND;VALUE=DATE:20240727
DTSTAMP:20260422T073114
CREATED:20240613T002510Z
LAST-MODIFIED:20240613T002510Z
UID:4740-1721869200-1721955599@www.stcolsbays.wa.edu.au
SUMMARY:Year 5 & 6 Excursion to the Regal Theatre
DESCRIPTION:
URL:https://www.stcolsbays.wa.edu.au/event/year-5-6-excursion-to-the-regal-theatre
END:VEVENT
BEGIN:VEVENT
DTSTART;VALUE=DATE:20240724
DTEND;VALUE=DATE:20240728
DTSTAMP:20260422T073114
CREATED:20240509T081810Z
LAST-MODIFIED:20240509T081810Z
UID:4654-1721782800-1722041999@www.stcolsbays.wa.edu.au
SUMMARY:Religious Education Assessment Practice - Years 3 & 5
DESCRIPTION:
URL:https://www.stcolsbays.wa.edu.au/event/religious-education-assessment-practice-years-3-5-3
END:VEVENT
BEGIN:VEVENT
DTSTART;VALUE=DATE:20240723
DTEND;VALUE=DATE:20240725
DTSTAMP:20260422T073114
CREATED:20240509T081518Z
LAST-MODIFIED:20240509T081518Z
UID:4651-1721696400-1721782799@www.stcolsbays.wa.edu.au
SUMMARY:Interschool Cross Country
DESCRIPTION:
URL:https://www.stcolsbays.wa.edu.au/event/interschool-cross-country-3
END:VEVENT
BEGIN:VEVENT
DTSTART;VALUE=DATE:20240715
DTEND;VALUE=DATE:20240717
DTSTAMP:20260422T073114
CREATED:20240429T075918Z
LAST-MODIFIED:20240429T075918Z
UID:4573-1721005200-1721091599@www.stcolsbays.wa.edu.au
SUMMARY:Term 3 Commences for Staff & Students
DESCRIPTION:
URL:https://www.stcolsbays.wa.edu.au/event/term-3-commences-for-staff-students
END:VEVENT
BEGIN:VEVENT
DTSTART;VALUE=DATE:20240628
DTEND;VALUE=DATE:20240630
DTSTAMP:20260422T073114
CREATED:20240429T080449Z
LAST-MODIFIED:20240429T080449Z
UID:4581-1719536400-1719622799@www.stcolsbays.wa.edu.au
SUMMARY:Pupil Free Day
DESCRIPTION:
URL:https://www.stcolsbays.wa.edu.au/event/pupil-free-day-5
END:VEVENT
BEGIN:VEVENT
DTSTART;VALUE=DATE:20240627
DTEND;VALUE=DATE:20240629
DTSTAMP:20260422T073114
CREATED:20240429T080357Z
LAST-MODIFIED:20240509T081115Z
UID:4578-1719450000-1719536399@www.stcolsbays.wa.edu.au
SUMMARY:P&F Pyjama Day Fundraiser - Gold coin donation
DESCRIPTION:
URL:https://www.stcolsbays.wa.edu.au/event/pf-free-dress-fundraiser-gold-coin-donation
END:VEVENT
BEGIN:VEVENT
DTSTART;VALUE=DATE:20240627
DTEND;VALUE=DATE:20240629
DTSTAMP:20260422T073114
CREATED:20240429T080041Z
LAST-MODIFIED:20240429T080041Z
UID:4575-1719450000-1719536399@www.stcolsbays.wa.edu.au
SUMMARY:Term 2 Concludes for Students
DESCRIPTION:
URL:https://www.stcolsbays.wa.edu.au/event/term-2-concludes-for-students
END:VEVENT
BEGIN:VEVENT
DTSTART;VALUE=DATE:20240625
DTEND;VALUE=DATE:20240627
DTSTAMP:20260422T073114
CREATED:20240429T073444Z
LAST-MODIFIED:20240429T073444Z
UID:4540-1719277200-1719363599@www.stcolsbays.wa.edu.au
SUMMARY:Reports distributed
DESCRIPTION:
URL:https://www.stcolsbays.wa.edu.au/event/reports-distributed-3
END:VEVENT
BEGIN:VEVENT
DTSTART;TZID=Australia/Perth:20240624T090000
DTEND;TZID=Australia/Perth:20240624T110000
DTSTAMP:20260422T073114
CREATED:20240419T040626Z
LAST-MODIFIED:20240429T080245Z
UID:4387-1719219600-1719226800@www.stcolsbays.wa.edu.au
SUMMARY:P&F Cookie Dough Fundraiser distribution of sales
DESCRIPTION:
URL:https://www.stcolsbays.wa.edu.au/event/pf-cookie-dough-fundraiser-distribution-of-sales-2
END:VEVENT
BEGIN:VEVENT
DTSTART;TZID=Australia/Perth:20240621T084500
DTEND;TZID=Australia/Perth:20240621T091500
DTSTAMP:20260422T073114
CREATED:20240419T040905Z
LAST-MODIFIED:20240419T040905Z
UID:4473-1718959500-1718961300@www.stcolsbays.wa.edu.au
SUMMARY:Assembly 8 - Mercy Awards
DESCRIPTION:
URL:https://www.stcolsbays.wa.edu.au/event/assembly-8-mercy-awards-2
END:VEVENT
BEGIN:VEVENT
DTSTART;VALUE=DATE:20240620
DTEND;VALUE=DATE:20240622
DTSTAMP:20260422T073114
CREATED:20240429T080558Z
LAST-MODIFIED:20240509T080926Z
UID:4584-1718845200-1718931599@www.stcolsbays.wa.edu.au
SUMMARY:Winter Carnival - Year 6
DESCRIPTION:
URL:https://www.stcolsbays.wa.edu.au/event/winter-carnival-3
END:VEVENT
BEGIN:VEVENT
DTSTART;TZID=Australia/Perth:20240614T084500
DTEND;TZID=Australia/Perth:20240614T091500
DTSTAMP:20260422T073114
CREATED:20240419T040906Z
LAST-MODIFIED:20240419T040906Z
UID:4474-1718354700-1718356500@www.stcolsbays.wa.edu.au
SUMMARY:Assembly 7 - Merit Certificates
DESCRIPTION:
URL:https://www.stcolsbays.wa.edu.au/event/assembly-7-merit-certificates-2
END:VEVENT
BEGIN:VEVENT
DTSTART;TZID=Australia/Perth:20240611T190000
DTEND;TZID=Australia/Perth:20240611T203000
DTSTAMP:20260422T073114
CREATED:20240419T040906Z
LAST-MODIFIED:20240419T040906Z
UID:4475-1718132400-1718137800@www.stcolsbays.wa.edu.au
SUMMARY:P&F Meeting
DESCRIPTION:
URL:https://www.stcolsbays.wa.edu.au/event/pf-meeting-9
END:VEVENT
BEGIN:VEVENT
DTSTART;TZID=Australia/Perth:20240611T174500
DTEND;TZID=Australia/Perth:20240611T184500
DTSTAMP:20260422T073114
CREATED:20240419T040906Z
LAST-MODIFIED:20240419T040906Z
UID:4476-1718127900-1718131500@www.stcolsbays.wa.edu.au
SUMMARY:CSAC Meeting
DESCRIPTION:
URL:https://www.stcolsbays.wa.edu.au/event/csac-meeting-7
END:VEVENT
BEGIN:VEVENT
DTSTART;TZID=Australia/Perth:20240608T190000
DTEND;TZID=Australia/Perth:20240608T203000
DTSTAMP:20260422T073114
CREATED:20240509T080802Z
LAST-MODIFIED:20240509T080802Z
UID:4645-1717873200-1717878600@www.stcolsbays.wa.edu.au
SUMMARY:St Columba's Day Parish Sausage Sizzle
DESCRIPTION:After 6.00pm mass
URL:https://www.stcolsbays.wa.edu.au/event/st-columbas-day-parish-sausage-sizzle
END:VEVENT
BEGIN:VEVENT
DTSTART;VALUE=DATE:20240607
DTEND;VALUE=DATE:20240609
DTSTAMP:20260422T073114
CREATED:20240429T080811Z
LAST-MODIFIED:20240509T080210Z
UID:4589-1717722000-1717808399@www.stcolsbays.wa.edu.au
SUMMARY:St Columba's Day & Mercy Mission Day
DESCRIPTION:Mass – 9.00am \nStalls – Time TBC \n  \n 
URL:https://www.stcolsbays.wa.edu.au/event/st-columbas-day-mercy-mission-day-3
END:VEVENT
BEGIN:VEVENT
DTSTART;VALUE=DATE:20240605
DTEND;VALUE=DATE:20240607
DTSTAMP:20260422T073114
CREATED:20240429T080654Z
LAST-MODIFIED:20240429T080654Z
UID:4586-1717549200-1717635599@www.stcolsbays.wa.edu.au
SUMMARY:LifeLink Day
DESCRIPTION:
URL:https://www.stcolsbays.wa.edu.au/event/lifelink-day-3
END:VEVENT
BEGIN:VEVENT
DTSTART;VALUE=DATE:20240603
DTEND;VALUE=DATE:20240605
DTSTAMP:20260422T073114
CREATED:20240502T235815Z
LAST-MODIFIED:20240502T235815Z
UID:4627-1717376400-1717462799@www.stcolsbays.wa.edu.au
SUMMARY:WA Day Public Holiday
DESCRIPTION:
URL:https://www.stcolsbays.wa.edu.au/event/wa-day-public-holiday
END:VEVENT
BEGIN:VEVENT
DTSTART;VALUE=DATE:20240531
DTEND;VALUE=DATE:20240602
DTSTAMP:20260422T073114
CREATED:20240503T000049Z
LAST-MODIFIED:20240503T000049Z
UID:4629-1717117200-1717203599@www.stcolsbays.wa.edu.au
SUMMARY:Pupil Free Day
DESCRIPTION:
URL:https://www.stcolsbays.wa.edu.au/event/pupil-free-day-6
END:VEVENT
END:VCALENDAR