BEGIN:VCALENDAR
VERSION:2.0
PRODID:-//St Columba&#039;s School - ECPv6.3.5//NONSGML v1.0//EN
CALSCALE:GREGORIAN
METHOD:PUBLISH
X-WR-CALNAME:St Columba&#039;s School
X-ORIGINAL-URL:https://www.stcolsbays.wa.edu.au
X-WR-CALDESC:Events for St Columba&#039;s School
REFRESH-INTERVAL;VALUE=DURATION:PT1H
X-Robots-Tag:noindex
X-PUBLISHED-TTL:PT1H
BEGIN:VTIMEZONE
TZID:Australia/Perth
BEGIN:STANDARD
TZOFFSETFROM:+0800
TZOFFSETTO:+0800
TZNAME:AWST
DTSTART:20240101T000000
END:STANDARD
END:VTIMEZONE
BEGIN:VEVENT
DTSTART;TZID=Australia/Perth:20240611T190000
DTEND;TZID=Australia/Perth:20240611T203000
DTSTAMP:20260423T191322
CREATED:20240419T040906Z
LAST-MODIFIED:20240419T040906Z
UID:4475-1718132400-1718137800@www.stcolsbays.wa.edu.au
SUMMARY:P&F Meeting
DESCRIPTION:
URL:https://www.stcolsbays.wa.edu.au/event/pf-meeting-9
END:VEVENT
BEGIN:VEVENT
DTSTART;TZID=Australia/Perth:20240611T174500
DTEND;TZID=Australia/Perth:20240611T184500
DTSTAMP:20260423T191322
CREATED:20240419T040906Z
LAST-MODIFIED:20240419T040906Z
UID:4476-1718127900-1718131500@www.stcolsbays.wa.edu.au
SUMMARY:CSAC Meeting
DESCRIPTION:
URL:https://www.stcolsbays.wa.edu.au/event/csac-meeting-7
END:VEVENT
BEGIN:VEVENT
DTSTART;TZID=Australia/Perth:20240608T190000
DTEND;TZID=Australia/Perth:20240608T203000
DTSTAMP:20260423T191322
CREATED:20240509T080802Z
LAST-MODIFIED:20240509T080802Z
UID:4645-1717873200-1717878600@www.stcolsbays.wa.edu.au
SUMMARY:St Columba's Day Parish Sausage Sizzle
DESCRIPTION:After 6.00pm mass
URL:https://www.stcolsbays.wa.edu.au/event/st-columbas-day-parish-sausage-sizzle
END:VEVENT
BEGIN:VEVENT
DTSTART;VALUE=DATE:20240607
DTEND;VALUE=DATE:20240609
DTSTAMP:20260423T191322
CREATED:20240429T080811Z
LAST-MODIFIED:20240509T080210Z
UID:4589-1717722000-1717808399@www.stcolsbays.wa.edu.au
SUMMARY:St Columba's Day & Mercy Mission Day
DESCRIPTION:Mass – 9.00am \nStalls – Time TBC \n  \n 
URL:https://www.stcolsbays.wa.edu.au/event/st-columbas-day-mercy-mission-day-3
END:VEVENT
BEGIN:VEVENT
DTSTART;VALUE=DATE:20240605
DTEND;VALUE=DATE:20240607
DTSTAMP:20260423T191322
CREATED:20240429T080654Z
LAST-MODIFIED:20240429T080654Z
UID:4586-1717549200-1717635599@www.stcolsbays.wa.edu.au
SUMMARY:LifeLink Day
DESCRIPTION:
URL:https://www.stcolsbays.wa.edu.au/event/lifelink-day-3
END:VEVENT
BEGIN:VEVENT
DTSTART;VALUE=DATE:20240603
DTEND;VALUE=DATE:20240605
DTSTAMP:20260423T191322
CREATED:20240502T235815Z
LAST-MODIFIED:20240502T235815Z
UID:4627-1717376400-1717462799@www.stcolsbays.wa.edu.au
SUMMARY:WA Day Public Holiday
DESCRIPTION:
URL:https://www.stcolsbays.wa.edu.au/event/wa-day-public-holiday
END:VEVENT
BEGIN:VEVENT
DTSTART;VALUE=DATE:20240531
DTEND;VALUE=DATE:20240602
DTSTAMP:20260423T191322
CREATED:20240503T000049Z
LAST-MODIFIED:20240503T000049Z
UID:4629-1717117200-1717203599@www.stcolsbays.wa.edu.au
SUMMARY:Pupil Free Day
DESCRIPTION:
URL:https://www.stcolsbays.wa.edu.au/event/pupil-free-day-6
END:VEVENT
BEGIN:VEVENT
DTSTART;TZID=Australia/Perth:20240530T183000
DTEND;TZID=Australia/Perth:20240530T200000
DTSTAMP:20260423T191322
CREATED:20240419T040722Z
LAST-MODIFIED:20240419T040722Z
UID:4418-1717093800-1717099200@www.stcolsbays.wa.edu.au
SUMMARY:FIRST RECONCILIATION Ceremony - 3G & 3W
DESCRIPTION:
URL:https://www.stcolsbays.wa.edu.au/event/first-reconciliation-ceremony-3g-3w-2
END:VEVENT
BEGIN:VEVENT
DTSTART;TZID=Australia/Perth:20240527T000000
DTEND;TZID=Australia/Perth:20240601T000000
DTSTAMP:20260423T191322
CREATED:20240419T040921Z
LAST-MODIFIED:20240419T040921Z
UID:4479-1716768000-1717200000@www.stcolsbays.wa.edu.au
SUMMARY:Reconciliation Week
DESCRIPTION:
URL:https://www.stcolsbays.wa.edu.au/event/reconciliation-week-2
END:VEVENT
BEGIN:VEVENT
DTSTART;TZID=Australia/Perth:20240526T000000
DTEND;TZID=Australia/Perth:20240527T000000
DTSTAMP:20260423T191322
CREATED:20240419T040921Z
LAST-MODIFIED:20240419T040921Z
UID:4480-1716681600-1716768000@www.stcolsbays.wa.edu.au
SUMMARY:Sorry Day
DESCRIPTION:
URL:https://www.stcolsbays.wa.edu.au/event/sorry-day-2
END:VEVENT
BEGIN:VEVENT
DTSTART;TZID=Australia/Perth:20240525T153000
DTEND;TZID=Australia/Perth:20240525T170000
DTSTAMP:20260423T191322
CREATED:20240419T040722Z
LAST-MODIFIED:20240419T040722Z
UID:4419-1716651000-1716656400@www.stcolsbays.wa.edu.au
SUMMARY:FIRST COMMUNION - 4W
DESCRIPTION:
URL:https://www.stcolsbays.wa.edu.au/event/first-communion-4w-2
END:VEVENT
BEGIN:VEVENT
DTSTART;VALUE=DATE:20240524
DTEND;VALUE=DATE:20240526
DTSTAMP:20260423T191322
CREATED:20240429T081516Z
LAST-MODIFIED:20240429T081516Z
UID:4597-1716512400-1716598799@www.stcolsbays.wa.edu.au
SUMMARY:FACTION CROSS COUNTRY - Years 1 - 6
DESCRIPTION:
URL:https://www.stcolsbays.wa.edu.au/event/faction-cross-country-years-1-6
END:VEVENT
BEGIN:VEVENT
DTSTART;VALUE=DATE:20240523
DTEND;VALUE=DATE:20240525
DTSTAMP:20260423T191322
CREATED:20240429T081344Z
LAST-MODIFIED:20240429T081344Z
UID:4594-1716426000-1716512399@www.stcolsbays.wa.edu.au
SUMMARY:YEAR 3 RECONCILIATION REFLECTION DAY -  Schoenstatt Shrine
DESCRIPTION:
URL:https://www.stcolsbays.wa.edu.au/event/year-3-reconciliation-reflection-day-schoenstatt-shrine-2
END:VEVENT
BEGIN:VEVENT
DTSTART;VALUE=DATE:20240522
DTEND;VALUE=DATE:20240524
DTSTAMP:20260423T191322
CREATED:20240429T081631Z
LAST-MODIFIED:20240429T081631Z
UID:4600-1716339600-1716425999@www.stcolsbays.wa.edu.au
SUMMARY:National Simultaneous Storytime 2024
DESCRIPTION:
URL:https://www.stcolsbays.wa.edu.au/event/national-simultaneous-storytime-2024-3
END:VEVENT
BEGIN:VEVENT
DTSTART;TZID=Australia/Perth:20240521T180000
DTEND;TZID=Australia/Perth:20240521T191500
DTSTAMP:20260423T191322
CREATED:20240419T040723Z
LAST-MODIFIED:20240419T040723Z
UID:4422-1716314400-1716318900@www.stcolsbays.wa.edu.au
SUMMARY:RECONCILIATION - Family Workshop 3W
DESCRIPTION:
URL:https://www.stcolsbays.wa.edu.au/event/reconciliation-family-workshop-3w-2
END:VEVENT
BEGIN:VEVENT
DTSTART;TZID=Australia/Perth:20240521T163000
DTEND;TZID=Australia/Perth:20240521T174500
DTSTAMP:20260423T191322
CREATED:20240419T040737Z
LAST-MODIFIED:20240419T040737Z
UID:4423-1716309000-1716313500@www.stcolsbays.wa.edu.au
SUMMARY:RECONCILIATION - Family Workshop 3G
DESCRIPTION:
URL:https://www.stcolsbays.wa.edu.au/event/reconciliation-family-workshop-3g-2
END:VEVENT
BEGIN:VEVENT
DTSTART;TZID=Australia/Perth:20240518T153000
DTEND;TZID=Australia/Perth:20240518T170000
DTSTAMP:20260423T191322
CREATED:20240419T040738Z
LAST-MODIFIED:20240419T040738Z
UID:4424-1716046200-1716051600@www.stcolsbays.wa.edu.au
SUMMARY:FIRST COMMUNION - 4G
DESCRIPTION:
URL:https://www.stcolsbays.wa.edu.au/event/first-communion-4g-2
END:VEVENT
BEGIN:VEVENT
DTSTART;TZID=Australia/Perth:20240517T084500
DTEND;TZID=Australia/Perth:20240517T091500
DTSTAMP:20260423T191322
CREATED:20240419T040921Z
LAST-MODIFIED:20240419T040921Z
UID:4482-1715935500-1715937300@www.stcolsbays.wa.edu.au
SUMMARY:Assembly 6 - Year 1 & Merit Certificates
DESCRIPTION:
URL:https://www.stcolsbays.wa.edu.au/event/assembly-6-year-1-merit-certificates-2
END:VEVENT
BEGIN:VEVENT
DTSTART;VALUE=DATE:20240517
DTEND;VALUE=DATE:20240519
DTSTAMP:20260423T191322
CREATED:20240429T081857Z
LAST-MODIFIED:20240429T081857Z
UID:4606-1715907600-1715993999@www.stcolsbays.wa.edu.au
SUMMARY:EDUCATION ASSISTANT APPRECIATION DAY
DESCRIPTION:
URL:https://www.stcolsbays.wa.edu.au/event/education-assistant-appreciation-day-3
END:VEVENT
BEGIN:VEVENT
DTSTART;VALUE=DATE:20240516
DTEND;VALUE=DATE:20240518
DTSTAMP:20260423T191322
CREATED:20240429T081755Z
LAST-MODIFIED:20240429T081755Z
UID:4603-1715821200-1715907599@www.stcolsbays.wa.edu.au
SUMMARY:FIRST COMMUNION REFLECTION DAY
DESCRIPTION:
URL:https://www.stcolsbays.wa.edu.au/event/first-communion-reflection-day-3
END:VEVENT
BEGIN:VEVENT
DTSTART;TZID=Australia/Perth:20240514T180000
DTEND;TZID=Australia/Perth:20240514T191500
DTSTAMP:20260423T191322
CREATED:20240419T040738Z
LAST-MODIFIED:20240419T040738Z
UID:4427-1715709600-1715714100@www.stcolsbays.wa.edu.au
SUMMARY:FIRST COMMUNION - Family Workshop - 4W
DESCRIPTION:
URL:https://www.stcolsbays.wa.edu.au/event/first-communion-family-workshop-4w-2
END:VEVENT
BEGIN:VEVENT
DTSTART;TZID=Australia/Perth:20240514T163000
DTEND;TZID=Australia/Perth:20240514T174500
DTSTAMP:20260423T191322
CREATED:20240419T040752Z
LAST-MODIFIED:20240419T040752Z
UID:4428-1715704200-1715708700@www.stcolsbays.wa.edu.au
SUMMARY:FIRST COMMUNION - Family Workshop - 4G
DESCRIPTION:
URL:https://www.stcolsbays.wa.edu.au/event/first-communion-family-workshop-4g-2
END:VEVENT
BEGIN:VEVENT
DTSTART;VALUE=DATE:20240512
DTEND;VALUE=DATE:20240514
DTSTAMP:20260423T191322
CREATED:20240429T073043Z
LAST-MODIFIED:20240429T073043Z
UID:4537-1715475600-1715561999@www.stcolsbays.wa.edu.au
SUMMARY:Mother's Day
DESCRIPTION:
URL:https://www.stcolsbays.wa.edu.au/event/mothers-day-3
END:VEVENT
BEGIN:VEVENT
DTSTART;TZID=Australia/Perth:20240510T090000
DTEND;TZID=Australia/Perth:20240510T143000
DTSTAMP:20260423T191322
CREATED:20240419T040631Z
LAST-MODIFIED:20240429T071955Z
UID:4397-1715331600-1715351400@www.stcolsbays.wa.edu.au
SUMMARY:Kindy Speech Screening
DESCRIPTION:
URL:https://www.stcolsbays.wa.edu.au/event/kindy-speech-screening-4
END:VEVENT
BEGIN:VEVENT
DTSTART;TZID=Australia/Perth:20240510T090000
DTEND;TZID=Australia/Perth:20240510T093000
DTSTAMP:20260423T191322
CREATED:20240419T040935Z
LAST-MODIFIED:20240419T040935Z
UID:4483-1715331600-1715333400@www.stcolsbays.wa.edu.au
SUMMARY:Mother's Day Mass
DESCRIPTION:
URL:https://www.stcolsbays.wa.edu.au/event/mothers-day-mass-2
END:VEVENT
BEGIN:VEVENT
DTSTART;TZID=Australia/Perth:20240510T071500
DTEND;TZID=Australia/Perth:20240510T081500
DTSTAMP:20260423T191322
CREATED:20240419T040936Z
LAST-MODIFIED:20240419T040936Z
UID:4484-1715325300-1715328900@www.stcolsbays.wa.edu.au
SUMMARY:Mother's Day Breakfast
DESCRIPTION:
URL:https://www.stcolsbays.wa.edu.au/event/mothers-day-breakfast-2
END:VEVENT
BEGIN:VEVENT
DTSTART;TZID=Australia/Perth:20240508T090000
DTEND;TZID=Australia/Perth:20240508T143000
DTSTAMP:20260423T191322
CREATED:20240419T040631Z
LAST-MODIFIED:20240429T071916Z
UID:4398-1715158800-1715178600@www.stcolsbays.wa.edu.au
SUMMARY:Kindy Speech Screening
DESCRIPTION:
URL:https://www.stcolsbays.wa.edu.au/event/kindy-speech-screening-5
END:VEVENT
BEGIN:VEVENT
DTSTART;TZID=Australia/Perth:20240507T190000
DTEND;TZID=Australia/Perth:20240507T203000
DTSTAMP:20260423T191322
CREATED:20240419T040936Z
LAST-MODIFIED:20240419T040936Z
UID:4485-1715108400-1715113800@www.stcolsbays.wa.edu.au
SUMMARY:P&F Meeting
DESCRIPTION:
URL:https://www.stcolsbays.wa.edu.au/event/pf-meeting-10
END:VEVENT
BEGIN:VEVENT
DTSTART;TZID=Australia/Perth:20240506T090000
DTEND;TZID=Australia/Perth:20240506T143000
DTSTAMP:20260423T191322
CREATED:20240419T040646Z
LAST-MODIFIED:20240429T071838Z
UID:4403-1714986000-1715005800@www.stcolsbays.wa.edu.au
SUMMARY:Kindy Speech Screening
DESCRIPTION:
URL:https://www.stcolsbays.wa.edu.au/event/kindy-speech-screening-6
END:VEVENT
BEGIN:VEVENT
DTSTART;TZID=Australia/Perth:20240506T090000
DTEND;TZID=Australia/Perth:20240506T143000
DTSTAMP:20260423T191322
CREATED:20240419T040626Z
LAST-MODIFIED:20240429T071125Z
UID:4388-1714986000-1715005800@www.stcolsbays.wa.edu.au
SUMMARY:Sales for P&F Cookie Dough Fundraiser commence
DESCRIPTION:
URL:https://www.stcolsbays.wa.edu.au/event/sales-for-pf-cookie-dough-fundraiser-commence-2
END:VEVENT
END:VCALENDAR