BEGIN:VCALENDAR
VERSION:2.0
PRODID:-//St Columba&#039;s School - ECPv6.3.5//NONSGML v1.0//EN
CALSCALE:GREGORIAN
METHOD:PUBLISH
X-WR-CALNAME:St Columba&#039;s School
X-ORIGINAL-URL:https://www.stcolsbays.wa.edu.au
X-WR-CALDESC:Events for St Columba&#039;s School
REFRESH-INTERVAL;VALUE=DURATION:PT1H
X-Robots-Tag:noindex
X-PUBLISHED-TTL:PT1H
BEGIN:VTIMEZONE
TZID:Australia/Perth
BEGIN:STANDARD
TZOFFSETFROM:+0800
TZOFFSETTO:+0800
TZNAME:AWST
DTSTART:20240101T000000
END:STANDARD
END:VTIMEZONE
BEGIN:VEVENT
DTSTART;TZID=Australia/Perth:20241101T090000
DTEND;TZID=Australia/Perth:20241101T100000
DTSTAMP:20260422T005054
CREATED:20240419T040835Z
LAST-MODIFIED:20240419T040835Z
UID:4441-1730451600-1730455200@www.stcolsbays.wa.edu.au
SUMMARY:School Mass - All Saints Day
DESCRIPTION:
URL:https://www.stcolsbays.wa.edu.au/event/school-mass-all-saints-day-2
END:VEVENT
BEGIN:VEVENT
DTSTART;TZID=Australia/Perth:20241025T084500
DTEND;TZID=Australia/Perth:20241025T091500
DTSTAMP:20260422T005054
CREATED:20240419T040836Z
LAST-MODIFIED:20240419T040836Z
UID:4448-1729845900-1729847700@www.stcolsbays.wa.edu.au
SUMMARY:Assembly 15 - Merit Certificates
DESCRIPTION:
URL:https://www.stcolsbays.wa.edu.au/event/assembly-15-merit-certificates-2
END:VEVENT
BEGIN:VEVENT
DTSTART;VALUE=DATE:20241025
DTEND;VALUE=DATE:20241027
DTSTAMP:20260422T005054
CREATED:20240509T084559Z
LAST-MODIFIED:20240509T084559Z
UID:4683-1729818000-1729904399@www.stcolsbays.wa.edu.au
SUMMARY:Teacher Appreciation Day
DESCRIPTION:
URL:https://www.stcolsbays.wa.edu.au/event/teacher-appreciation-day-3
END:VEVENT
BEGIN:VEVENT
DTSTART;VALUE=DATE:20241024
DTEND;VALUE=DATE:20241026
DTSTAMP:20260422T005054
CREATED:20240509T084459Z
LAST-MODIFIED:20240509T084459Z
UID:4681-1729731600-1729817999@www.stcolsbays.wa.edu.au
SUMMARY:Interschool Athletics Carnival
DESCRIPTION:
URL:https://www.stcolsbays.wa.edu.au/event/interschool-athletics-carnival
END:VEVENT
BEGIN:VEVENT
DTSTART;TZID=Australia/Perth:20241022T190000
DTEND;TZID=Australia/Perth:20241022T203000
DTSTAMP:20260422T005054
CREATED:20240419T040836Z
LAST-MODIFIED:20240419T040836Z
UID:4450-1729623600-1729629000@www.stcolsbays.wa.edu.au
SUMMARY:P&F Meeting
DESCRIPTION:
URL:https://www.stcolsbays.wa.edu.au/event/pf-meeting-7
END:VEVENT
BEGIN:VEVENT
DTSTART;VALUE=DATE:20241021
DTEND;VALUE=DATE:20241023
DTSTAMP:20260422T005054
CREATED:20240716T073917Z
LAST-MODIFIED:20240716T073917Z
UID:4778-1729472400-1729558799@www.stcolsbays.wa.edu.au
SUMMARY:Year 3 Excursion - Herdsman Lake
DESCRIPTION:
URL:https://www.stcolsbays.wa.edu.au/event/year-3-excursion-herdsman-lake
END:VEVENT
BEGIN:VEVENT
DTSTART;TZID=Australia/Perth:20241018T184500
DTEND;TZID=Australia/Perth:20241018T201500
DTSTAMP:20260422T005054
CREATED:20241006T032424Z
LAST-MODIFIED:20241006T032424Z
UID:4938-1729277100-1729282500@www.stcolsbays.wa.edu.au
SUMMARY:P&F Disco - Year 3 to Year 6
DESCRIPTION:
URL:https://www.stcolsbays.wa.edu.au/event/pf-disco-year-3-to-year-6
END:VEVENT
BEGIN:VEVENT
DTSTART;TZID=Australia/Perth:20241018T170000
DTEND;TZID=Australia/Perth:20241018T183000
DTSTAMP:20260422T005054
CREATED:20240419T040623Z
LAST-MODIFIED:20241006T032717Z
UID:4375-1729270800-1729276200@www.stcolsbays.wa.edu.au
SUMMARY:P&F Disco - PK to Year 2
DESCRIPTION:
URL:https://www.stcolsbays.wa.edu.au/event/pf-disco-times-tbc-2
END:VEVENT
BEGIN:VEVENT
DTSTART;TZID=Australia/Perth:20241018T090000
DTEND;TZID=Australia/Perth:20241018T090000
DTSTAMP:20260422T005054
CREATED:20240419T040620Z
LAST-MODIFIED:20240509T084357Z
UID:4372-1729242000-1729242000@www.stcolsbays.wa.edu.au
SUMMARY:Year 3 Gate Testing (AM)
DESCRIPTION:
URL:https://www.stcolsbays.wa.edu.au/event/year-3-gate-testing-2
END:VEVENT
BEGIN:VEVENT
DTSTART;TZID=Australia/Perth:20241018T090000
DTEND;TZID=Australia/Perth:20241018T090000
DTSTAMP:20260422T005054
CREATED:20240419T040646Z
LAST-MODIFIED:20241006T032152Z
UID:4406-1729242000-1729242000@www.stcolsbays.wa.edu.au
SUMMARY:Parish Mass - Years 4 - 6
DESCRIPTION:
URL:https://www.stcolsbays.wa.edu.au/event/parish-mass-years-3-6-3
END:VEVENT
BEGIN:VEVENT
DTSTART;VALUE=DATE:20241016
DTEND;VALUE=DATE:20241018
DTSTAMP:20260422T005054
CREATED:20240808T065849Z
LAST-MODIFIED:20240808T065849Z
UID:4848-1729040400-1729126799@www.stcolsbays.wa.edu.au
SUMMARY:Pre-Primary Excursion - Constable Care Safety School
DESCRIPTION:
URL:https://www.stcolsbays.wa.edu.au/event/pre-primary-excursion-constable-care-safety-school
END:VEVENT
BEGIN:VEVENT
DTSTART;TZID=Australia/Perth:20241013T153000
DTEND;TZID=Australia/Perth:20241013T170000
DTSTAMP:20260422T005054
CREATED:20240919T234152Z
LAST-MODIFIED:20240919T234159Z
UID:4924-1728833400-1728838800@www.stcolsbays.wa.edu.au
SUMMARY:Columba Runners' Windup
DESCRIPTION:
URL:https://www.stcolsbays.wa.edu.au/event/columba-runners-windup
END:VEVENT
BEGIN:VEVENT
DTSTART;TZID=Australia/Perth:20241011T084500
DTEND;TZID=Australia/Perth:20241011T091500
DTSTAMP:20260422T005054
CREATED:20240419T040836Z
LAST-MODIFIED:20240419T040836Z
UID:4451-1728636300-1728638100@www.stcolsbays.wa.edu.au
SUMMARY:Assembly 14 - Merit Certificates
DESCRIPTION:
URL:https://www.stcolsbays.wa.edu.au/event/assembly-14-merit-certificates-2
END:VEVENT
BEGIN:VEVENT
DTSTART;TZID=Australia/Perth:20241009T090000
DTEND;TZID=Australia/Perth:20241009T220000
DTSTAMP:20260422T005054
CREATED:20240919T234039Z
LAST-MODIFIED:20240919T234039Z
UID:4922-1728464400-1728511200@www.stcolsbays.wa.edu.au
SUMMARY:Kindy Health Nurse Visit
DESCRIPTION:
URL:https://www.stcolsbays.wa.edu.au/event/kindy-health-nurse-visit
END:VEVENT
BEGIN:VEVENT
DTSTART;VALUE=DATE:20241008
DTEND;VALUE=DATE:20241010
DTSTAMP:20260422T005054
CREATED:20240429T075625Z
LAST-MODIFIED:20240429T075625Z
UID:4569-1728349200-1728435599@www.stcolsbays.wa.edu.au
SUMMARY:Term 4 Commences for Students
DESCRIPTION:
URL:https://www.stcolsbays.wa.edu.au/event/term-4-commences-for-students-2
END:VEVENT
BEGIN:VEVENT
DTSTART;VALUE=DATE:20241007
DTEND;VALUE=DATE:20241009
DTSTAMP:20260422T005054
CREATED:20240429T075601Z
LAST-MODIFIED:20240429T075601Z
UID:4567-1728262800-1728349199@www.stcolsbays.wa.edu.au
SUMMARY:Pupil Free Day
DESCRIPTION:
URL:https://www.stcolsbays.wa.edu.au/event/pupil-free-day-4
END:VEVENT
BEGIN:VEVENT
DTSTART;TZID=Australia/Perth:20240920T084500
DTEND;TZID=Australia/Perth:20240920T091500
DTSTAMP:20260422T005054
CREATED:20240419T040836Z
LAST-MODIFIED:20240419T040836Z
UID:4452-1726821900-1726823700@www.stcolsbays.wa.edu.au
SUMMARY:Assembly 13 - Mercy Awards
DESCRIPTION:
URL:https://www.stcolsbays.wa.edu.au/event/assembly-13-mercy-awards-2
END:VEVENT
BEGIN:VEVENT
DTSTART;VALUE=DATE:20240920
DTEND;VALUE=DATE:20240922
DTSTAMP:20260422T005054
CREATED:20240429T075753Z
LAST-MODIFIED:20240429T075753Z
UID:4571-1726794000-1726880399@www.stcolsbays.wa.edu.au
SUMMARY:Term 3 Concludes
DESCRIPTION:
URL:https://www.stcolsbays.wa.edu.au/event/term-3-concludes
END:VEVENT
BEGIN:VEVENT
DTSTART;VALUE=DATE:20240920
DTEND;VALUE=DATE:20240922
DTSTAMP:20260422T005054
CREATED:20240419T040620Z
LAST-MODIFIED:20240807T031143Z
UID:4373-1726794000-1726880399@www.stcolsbays.wa.edu.au
SUMMARY:P&F Fundraising - Subway lunch order day
DESCRIPTION:
URL:https://www.stcolsbays.wa.edu.au/event/pf-free-dress-for-gold-coin-donation-2
END:VEVENT
BEGIN:VEVENT
DTSTART;TZID=Australia/Perth:20240919T090000
DTEND;TZID=Australia/Perth:20240919T100000
DTSTAMP:20260422T005054
CREATED:20240419T040840Z
LAST-MODIFIED:20240419T040840Z
UID:4453-1726736400-1726740000@www.stcolsbays.wa.edu.au
SUMMARY:Pre-Primary Sport Morning
DESCRIPTION:
URL:https://www.stcolsbays.wa.edu.au/event/pre-primary-sport-morning-2
END:VEVENT
BEGIN:VEVENT
DTSTART;TZID=Australia/Perth:20240916T090000
DTEND;TZID=Australia/Perth:20240916T114500
DTSTAMP:20260422T005054
CREATED:20240419T040620Z
LAST-MODIFIED:20240419T040620Z
UID:4371-1726477200-1726487100@www.stcolsbays.wa.edu.au
SUMMARY:Year 3 Drama Incursion
DESCRIPTION:
URL:https://www.stcolsbays.wa.edu.au/event/year-3-drama-incursion-3
END:VEVENT
BEGIN:VEVENT
DTSTART;VALUE=DATE:20240913
DTEND;VALUE=DATE:20240915
DTSTAMP:20260422T005054
CREATED:20240808T065816Z
LAST-MODIFIED:20240808T065816Z
UID:4846-1726189200-1726275599@www.stcolsbays.wa.edu.au
SUMMARY:Year 4 Excursion - Perth Zoo
DESCRIPTION:
URL:https://www.stcolsbays.wa.edu.au/event/year-4-excursion-perth-zoo
END:VEVENT
BEGIN:VEVENT
DTSTART;VALUE=DATE:20240910
DTEND;VALUE=DATE:20240912
DTSTAMP:20260422T005054
CREATED:20240509T084126Z
LAST-MODIFIED:20240509T084126Z
UID:4676-1725930000-1726016399@www.stcolsbays.wa.edu.au
SUMMARY:Faction Athletics Carnival
DESCRIPTION:At UWA Sporting Ground
URL:https://www.stcolsbays.wa.edu.au/event/faction-athletics-carnival-3
END:VEVENT
BEGIN:VEVENT
DTSTART;TZID=Australia/Perth:20240909T090000
DTEND;TZID=Australia/Perth:20240909T114500
DTSTAMP:20260422T005054
CREATED:20240419T035324Z
LAST-MODIFIED:20240419T040620Z
UID:4102-1725872400-1725882300@www.stcolsbays.wa.edu.au
SUMMARY:Year 3 Drama Incursion
DESCRIPTION:
URL:https://www.stcolsbays.wa.edu.au/event/year-3-drama-incursion-2
END:VEVENT
BEGIN:VEVENT
DTSTART;TZID=Australia/Perth:20240906T183000
DTEND;TZID=Australia/Perth:20240906T183000
DTSTAMP:20260422T005054
CREATED:20240419T040840Z
LAST-MODIFIED:20240509T083933Z
UID:4455-1725647400-1725647400@www.stcolsbays.wa.edu.au
SUMMARY:Year 6 Confirmation
DESCRIPTION:At St Mary’s Cathedral
URL:https://www.stcolsbays.wa.edu.au/event/year-6-confirmation-2
END:VEVENT
BEGIN:VEVENT
DTSTART;TZID=Australia/Perth:20240906T084500
DTEND;TZID=Australia/Perth:20240906T091500
DTSTAMP:20260422T005054
CREATED:20240419T040840Z
LAST-MODIFIED:20240419T040840Z
UID:4454-1725612300-1725614100@www.stcolsbays.wa.edu.au
SUMMARY:Assembly 12 - Year 5 & Merit Certificates
DESCRIPTION:
URL:https://www.stcolsbays.wa.edu.au/event/assembly-12-year-5-merit-certificates-2
END:VEVENT
BEGIN:VEVENT
DTSTART;VALUE=DATE:20240906
DTEND;VALUE=DATE:20240908
DTSTAMP:20260422T005054
CREATED:20240722T034523Z
LAST-MODIFIED:20240722T034523Z
UID:4794-1725584400-1725670799@www.stcolsbays.wa.edu.au
SUMMARY:Child Health Nurse Checks - Kindergarten
DESCRIPTION:
URL:https://www.stcolsbays.wa.edu.au/event/child-health-nurse-checks-kindergarten-7
END:VEVENT
BEGIN:VEVENT
DTSTART;VALUE=DATE:20240904
DTEND;VALUE=DATE:20240906
DTSTAMP:20260422T005054
CREATED:20240722T034506Z
LAST-MODIFIED:20240722T034506Z
UID:4792-1725411600-1725497999@www.stcolsbays.wa.edu.au
SUMMARY:Child Health Nurse Checks - Kindergarten
DESCRIPTION:
URL:https://www.stcolsbays.wa.edu.au/event/child-health-nurse-checks-kindergarten-6
END:VEVENT
BEGIN:VEVENT
DTSTART;VALUE=DATE:20240904
DTEND;VALUE=DATE:20240906
DTSTAMP:20260422T005054
CREATED:20240509T083655Z
LAST-MODIFIED:20240807T030758Z
UID:4671-1725411600-1725497999@www.stcolsbays.wa.edu.au
SUMMARY:Confirmation Reflection Day
DESCRIPTION:
URL:https://www.stcolsbays.wa.edu.au/event/confirmation-reflection-day-3
END:VEVENT
BEGIN:VEVENT
DTSTART;TZID=Australia/Perth:20240903T190000
DTEND;TZID=Australia/Perth:20240903T203000
DTSTAMP:20260422T005054
CREATED:20240419T040652Z
LAST-MODIFIED:20240419T040652Z
UID:4409-1725390000-1725395400@www.stcolsbays.wa.edu.au
SUMMARY:P&F Meeting
DESCRIPTION:
URL:https://www.stcolsbays.wa.edu.au/event/pf-meeting-6
END:VEVENT
END:VCALENDAR