BEGIN:VCALENDAR
VERSION:2.0
PRODID:-//St Columba&#039;s School - ECPv6.3.5//NONSGML v1.0//EN
CALSCALE:GREGORIAN
METHOD:PUBLISH
X-WR-CALNAME:St Columba&#039;s School
X-ORIGINAL-URL:https://www.stcolsbays.wa.edu.au
X-WR-CALDESC:Events for St Columba&#039;s School
REFRESH-INTERVAL;VALUE=DURATION:PT1H
X-Robots-Tag:noindex
X-PUBLISHED-TTL:PT1H
BEGIN:VTIMEZONE
TZID:Australia/Perth
BEGIN:STANDARD
TZOFFSETFROM:+0800
TZOFFSETTO:+0800
TZNAME:AWST
DTSTART:20250101T000000
END:STANDARD
END:VTIMEZONE
BEGIN:VEVENT
DTSTART;VALUE=DATE:20250411
DTEND;VALUE=DATE:20250413
DTSTAMP:20260421T140153
CREATED:20241205T025340Z
LAST-MODIFIED:20241205T025340Z
UID:5116-1744333200-1744419599@www.stcolsbays.wa.edu.au
SUMMARY:End of Term 1 for students and staff
DESCRIPTION:
URL:https://www.stcolsbays.wa.edu.au/event/end-of-term-1-for-students-and-staff
END:VEVENT
BEGIN:VEVENT
DTSTART;VALUE=DATE:20250410
DTEND;VALUE=DATE:20250412
DTSTAMP:20260421T140153
CREATED:20250225T060940Z
LAST-MODIFIED:20250225T060940Z
UID:5423-1744246800-1744333199@www.stcolsbays.wa.edu.au
SUMMARY:Free dress for a Gold coin donation PK to Year 3
DESCRIPTION:
URL:https://www.stcolsbays.wa.edu.au/event/free-dress-for-a-gold-coin-donation-pk-to-year-3
END:VEVENT
BEGIN:VEVENT
DTSTART;VALUE=DATE:20250410
DTEND;VALUE=DATE:20250412
DTSTAMP:20260421T140153
CREATED:20241205T025146Z
LAST-MODIFIED:20241205T025146Z
UID:5112-1744246800-1744333199@www.stcolsbays.wa.edu.au
SUMMARY:Faction Swimming Carnival - Years 4-6
DESCRIPTION:Bayswater Waves
URL:https://www.stcolsbays.wa.edu.au/event/faction-swimming-carnival-years-4-6-3
END:VEVENT
BEGIN:VEVENT
DTSTART;TZID=Australia/Perth:20250408T183000
DTEND;TZID=Australia/Perth:20250408T193000
DTSTAMP:20260421T140153
CREATED:20241205T025055Z
LAST-MODIFIED:20250225T055903Z
UID:5110-1744137000-1744140600@www.stcolsbays.wa.edu.au
SUMMARY:P&F Meeting
DESCRIPTION:
URL:https://www.stcolsbays.wa.edu.au/event/pf-meeting-14
END:VEVENT
BEGIN:VEVENT
DTSTART;TZID=Australia/Perth:20250408T140000
DTEND;TZID=Australia/Perth:20250408T150000
DTSTAMP:20260421T140153
CREATED:20241205T025014Z
LAST-MODIFIED:20241205T040705Z
UID:5108-1744120800-1744124400@www.stcolsbays.wa.edu.au
SUMMARY:Assembly 3 - Year 4
DESCRIPTION:Mercy Awards and Easter Raffle
URL:https://www.stcolsbays.wa.edu.au/event/assembly-3
END:VEVENT
BEGIN:VEVENT
DTSTART;TZID=Australia/Perth:20250404T190000
DTEND;TZID=Australia/Perth:20250404T200000
DTSTAMP:20260421T140153
CREATED:20241205T024816Z
LAST-MODIFIED:20241206T015322Z
UID:5104-1743793200-1743796800@www.stcolsbays.wa.edu.au
SUMMARY:Stations of the Cross for the Parish
DESCRIPTION:
URL:https://www.stcolsbays.wa.edu.au/event/stations-of-the-cross-for-the-parish
END:VEVENT
BEGIN:VEVENT
DTSTART;TZID=Australia/Perth:20250330T104500
DTEND;TZID=Australia/Perth:20250330T114500
DTSTAMP:20260421T140153
CREATED:20241205T093209Z
LAST-MODIFIED:20241205T093209Z
UID:5279-1743331500-1743335100@www.stcolsbays.wa.edu.au
SUMMARY:Community Baptism
DESCRIPTION:
URL:https://www.stcolsbays.wa.edu.au/event/community-baptism-2
END:VEVENT
BEGIN:VEVENT
DTSTART;VALUE=DATE:20250328
DTEND;VALUE=DATE:20250330
DTSTAMP:20260421T140153
CREATED:20241205T024717Z
LAST-MODIFIED:20241205T024717Z
UID:5102-1743123600-1743209999@www.stcolsbays.wa.edu.au
SUMMARY:Pupil Free Day
DESCRIPTION:
URL:https://www.stcolsbays.wa.edu.au/event/pupil-free-day-7
END:VEVENT
BEGIN:VEVENT
DTSTART;TZID=Australia/Perth:20250325T104500
DTEND;TZID=Australia/Perth:20250325T111500
DTSTAMP:20260421T140153
CREATED:20241205T024854Z
LAST-MODIFIED:20241205T093039Z
UID:5106-1742899500-1742901300@www.stcolsbays.wa.edu.au
SUMMARY:Liturgy (PP - Year 2)
DESCRIPTION:
URL:https://www.stcolsbays.wa.edu.au/event/liturgy-pp-year-2
END:VEVENT
BEGIN:VEVENT
DTSTART;VALUE=DATE:20250324
DTEND;VALUE=DATE:20250329
DTSTAMP:20260421T140153
CREATED:20241205T024644Z
LAST-MODIFIED:20241205T024644Z
UID:5100-1742778000-1743123599@www.stcolsbays.wa.edu.au
SUMMARY:Parent Meetings
DESCRIPTION:
URL:https://www.stcolsbays.wa.edu.au/event/parent-meetings
END:VEVENT
BEGIN:VEVENT
DTSTART;VALUE=DATE:20250321
DTEND;VALUE=DATE:20250323
DTSTAMP:20260421T140153
CREATED:20250312T075856Z
LAST-MODIFIED:20250312T075856Z
UID:5485-1742518800-1742605199@www.stcolsbays.wa.edu.au
SUMMARY:National Ride to School Day
DESCRIPTION:
URL:https://www.stcolsbays.wa.edu.au/event/national-ride-to-school-day
END:VEVENT
BEGIN:VEVENT
DTSTART;VALUE=DATE:20250321
DTEND;VALUE=DATE:20250323
DTSTAMP:20260421T140153
CREATED:20241205T024603Z
LAST-MODIFIED:20241205T024603Z
UID:5098-1742518800-1742605199@www.stcolsbays.wa.edu.au
SUMMARY:Harmony Day
DESCRIPTION:
URL:https://www.stcolsbays.wa.edu.au/event/harmony-day
END:VEVENT
BEGIN:VEVENT
DTSTART;VALUE=DATE:20250319
DTEND;VALUE=DATE:20250322
DTSTAMP:20260421T140153
CREATED:20241205T024513Z
LAST-MODIFIED:20250213T035906Z
UID:5094-1742346000-1742518799@www.stcolsbays.wa.edu.au
SUMMARY:NAPLAN make up tests
DESCRIPTION:
URL:https://www.stcolsbays.wa.edu.au/event/naplan-make-up-tests
END:VEVENT
BEGIN:VEVENT
DTSTART;TZID=Australia/Perth:20250318T180000
DTEND;TZID=Australia/Perth:20250318T190000
DTSTAMP:20260421T140153
CREATED:20241205T024541Z
LAST-MODIFIED:20241205T024541Z
UID:5096-1742320800-1742324400@www.stcolsbays.wa.edu.au
SUMMARY:CSAC Meeting
DESCRIPTION:
URL:https://www.stcolsbays.wa.edu.au/event/csac-meeting-9
END:VEVENT
BEGIN:VEVENT
DTSTART;VALUE=DATE:20250317
DTEND;VALUE=DATE:20250319
DTSTAMP:20260421T140153
CREATED:20241205T024412Z
LAST-MODIFIED:20241205T024412Z
UID:5092-1742173200-1742259599@www.stcolsbays.wa.edu.au
SUMMARY:NAPLAN Testing - Years 3 & 5
DESCRIPTION:Numeracy
URL:https://www.stcolsbays.wa.edu.au/event/naplan-testing-years-3-5-4
END:VEVENT
BEGIN:VEVENT
DTSTART;VALUE=DATE:20250314
DTEND;VALUE=DATE:20250316
DTSTAMP:20260421T140153
CREATED:20241205T024333Z
LAST-MODIFIED:20241205T024333Z
UID:5090-1741914000-1742000399@www.stcolsbays.wa.edu.au
SUMMARY:NAPLAN Testing Years 3 & 5
DESCRIPTION:Conventions
URL:https://www.stcolsbays.wa.edu.au/event/naplan-testing-years-3-5-3
END:VEVENT
BEGIN:VEVENT
DTSTART;VALUE=DATE:20250313
DTEND;VALUE=DATE:20250315
DTSTAMP:20260421T140153
CREATED:20241205T024250Z
LAST-MODIFIED:20241205T024250Z
UID:5088-1741827600-1741913999@www.stcolsbays.wa.edu.au
SUMMARY:Chisholm Open Day & Year 4 Twilight Tour
DESCRIPTION:
URL:https://www.stcolsbays.wa.edu.au/event/chisholm-open-day-year-4-twilight-tour
END:VEVENT
BEGIN:VEVENT
DTSTART;VALUE=DATE:20250313
DTEND;VALUE=DATE:20250315
DTSTAMP:20260421T140153
CREATED:20241205T024154Z
LAST-MODIFIED:20241205T024154Z
UID:5086-1741827600-1741913999@www.stcolsbays.wa.edu.au
SUMMARY:NAPLAN Testing Years 3 & 5
DESCRIPTION:Reading
URL:https://www.stcolsbays.wa.edu.au/event/naplan-testing-years-3-5-2
END:VEVENT
BEGIN:VEVENT
DTSTART;VALUE=DATE:20250312
DTEND;VALUE=DATE:20250314
DTSTAMP:20260421T140153
CREATED:20241205T024104Z
LAST-MODIFIED:20241205T024104Z
UID:5084-1741741200-1741827599@www.stcolsbays.wa.edu.au
SUMMARY:Year 4 Swimming Tryouts
DESCRIPTION:
URL:https://www.stcolsbays.wa.edu.au/event/year-4-swimming-tryouts
END:VEVENT
BEGIN:VEVENT
DTSTART;VALUE=DATE:20250312
DTEND;VALUE=DATE:20250314
DTSTAMP:20260421T140153
CREATED:20241205T024031Z
LAST-MODIFIED:20241205T024031Z
UID:5082-1741741200-1741827599@www.stcolsbays.wa.edu.au
SUMMARY:NAPLAN Testing Years 3 & 5
DESCRIPTION:Writing
URL:https://www.stcolsbays.wa.edu.au/event/naplan-testing-years-3-5
END:VEVENT
BEGIN:VEVENT
DTSTART;TZID=Australia/Perth:20250311T183000
DTEND;TZID=Australia/Perth:20250311T193000
DTSTAMP:20260421T140153
CREATED:20241206T015137Z
LAST-MODIFIED:20250225T055722Z
UID:5314-1741717800-1741721400@www.stcolsbays.wa.edu.au
SUMMARY:P&F Meeting
DESCRIPTION:
URL:https://www.stcolsbays.wa.edu.au/event/pf-meeting-20
END:VEVENT
BEGIN:VEVENT
DTSTART;TZID=Australia/Perth:20250311T140000
DTEND;TZID=Australia/Perth:20250311T143000
DTSTAMP:20260421T140153
CREATED:20241205T023937Z
LAST-MODIFIED:20241205T023937Z
UID:5080-1741701600-1741703400@www.stcolsbays.wa.edu.au
SUMMARY:Assembly 2
DESCRIPTION:Merit Certificates
URL:https://www.stcolsbays.wa.edu.au/event/assembly-2
END:VEVENT
BEGIN:VEVENT
DTSTART;TZID=Australia/Perth:20250307T091500
DTEND;TZID=Australia/Perth:20250307T100000
DTSTAMP:20260421T140153
CREATED:20241205T023849Z
LAST-MODIFIED:20241205T023849Z
UID:5078-1741338900-1741341600@www.stcolsbays.wa.edu.au
SUMMARY:World Day of Prayer Mass (Years 3-6)
DESCRIPTION:
URL:https://www.stcolsbays.wa.edu.au/event/world-day-of-prayer-mass-years-3-6
END:VEVENT
BEGIN:VEVENT
DTSTART;TZID=Australia/Perth:20250305T090000
DTEND;TZID=Australia/Perth:20250305T100000
DTSTAMP:20260421T140153
CREATED:20241205T023758Z
LAST-MODIFIED:20241205T023758Z
UID:5076-1741165200-1741168800@www.stcolsbays.wa.edu.au
SUMMARY:Ash Wednesday Mass (Years 3-6)
DESCRIPTION:
URL:https://www.stcolsbays.wa.edu.au/event/ash-wednesday-mass-years-3-6
END:VEVENT
BEGIN:VEVENT
DTSTART;VALUE=DATE:20250304
DTEND;VALUE=DATE:20250306
DTSTAMP:20260421T140153
CREATED:20241205T023707Z
LAST-MODIFIED:20241205T023707Z
UID:5074-1741050000-1741136399@www.stcolsbays.wa.edu.au
SUMMARY:Pancake Tuesday
DESCRIPTION:Launch of Project Compassion
URL:https://www.stcolsbays.wa.edu.au/event/pancake-tuesday
END:VEVENT
BEGIN:VEVENT
DTSTART;VALUE=DATE:20250303
DTEND;VALUE=DATE:20250305
DTSTAMP:20260421T140153
CREATED:20241205T023626Z
LAST-MODIFIED:20241205T023626Z
UID:5072-1740963600-1741049999@www.stcolsbays.wa.edu.au
SUMMARY:Labour Day Public Holiday
DESCRIPTION:
URL:https://www.stcolsbays.wa.edu.au/event/labour-day-public-holiday
END:VEVENT
BEGIN:VEVENT
DTSTART;TZID=Australia/Perth:20250225T140000
DTEND;TZID=Australia/Perth:20250225T143000
DTSTAMP:20260421T140153
CREATED:20241205T023550Z
LAST-MODIFIED:20241205T023550Z
UID:5070-1740492000-1740493800@www.stcolsbays.wa.edu.au
SUMMARY:Assembly 1
DESCRIPTION:Merit Certificates
URL:https://www.stcolsbays.wa.edu.au/event/assembly-1
END:VEVENT
BEGIN:VEVENT
DTSTART;VALUE=DATE:20250221
DTEND;VALUE=DATE:20250223
DTSTAMP:20260421T140153
CREATED:20241205T023503Z
LAST-MODIFIED:20241205T023503Z
UID:5068-1740099600-1740185999@www.stcolsbays.wa.edu.au
SUMMARY:Census Day
DESCRIPTION:
URL:https://www.stcolsbays.wa.edu.au/event/census-day
END:VEVENT
BEGIN:VEVENT
DTSTART;TZID=Australia/Perth:20250218T183000
DTEND;TZID=Australia/Perth:20250218T193000
DTSTAMP:20260421T140153
CREATED:20241205T023435Z
LAST-MODIFIED:20250225T055527Z
UID:5066-1739903400-1739907000@www.stcolsbays.wa.edu.au
SUMMARY:P&F Meeting
DESCRIPTION:
URL:https://www.stcolsbays.wa.edu.au/event/pf-meeting-13
END:VEVENT
BEGIN:VEVENT
DTSTART;TZID=Australia/Perth:20250218T090000
DTEND;TZID=Australia/Perth:20250218T100000
DTSTAMP:20260421T140153
CREATED:20241206T014942Z
LAST-MODIFIED:20250206T020943Z
UID:5312-1739869200-1739872800@www.stcolsbays.wa.edu.au
SUMMARY:Pre-Kindergarten/Kindergarten 2026 Open Morning
DESCRIPTION:
URL:https://www.stcolsbays.wa.edu.au/event/pre-kindergarten-kindergarten-2026-enrolment-information
END:VEVENT
END:VCALENDAR