BEGIN:VCALENDAR
VERSION:2.0
PRODID:-//St Columba&#039;s School - ECPv6.3.5//NONSGML v1.0//EN
CALSCALE:GREGORIAN
METHOD:PUBLISH
X-WR-CALNAME:St Columba&#039;s School
X-ORIGINAL-URL:https://www.stcolsbays.wa.edu.au
X-WR-CALDESC:Events for St Columba&#039;s School
REFRESH-INTERVAL;VALUE=DURATION:PT1H
X-Robots-Tag:noindex
X-PUBLISHED-TTL:PT1H
BEGIN:VTIMEZONE
TZID:Australia/Perth
BEGIN:STANDARD
TZOFFSETFROM:+0800
TZOFFSETTO:+0800
TZNAME:AWST
DTSTART:20260101T000000
END:STANDARD
END:VTIMEZONE
BEGIN:VEVENT
DTSTART;VALUE=DATE:20260428
DTEND;VALUE=DATE:20260430
DTSTAMP:20260420T161823
CREATED:20260227T020220Z
LAST-MODIFIED:20260227T020220Z
UID:6473-1777338000-1777424399@www.stcolsbays.wa.edu.au
SUMMARY:School Slam Series - Basketball
DESCRIPTION:
URL:https://www.stcolsbays.wa.edu.au/event/school-slam-series-basketball
END:VEVENT
BEGIN:VEVENT
DTSTART;TZID=Australia/Perth:20260428T140000
DTEND;TZID=Australia/Perth:20260428T150000
DTSTAMP:20260420T161823
CREATED:20251212T044124Z
LAST-MODIFIED:20251217T043012Z
UID:6185-1777384800-1777388400@www.stcolsbays.wa.edu.au
SUMMARY:Assembly 4 - Anzac Assembly/Merit Certificates/Year 4 Item
DESCRIPTION:
URL:https://www.stcolsbays.wa.edu.au/event/assembly-4-2
END:VEVENT
BEGIN:VEVENT
DTSTART;TZID=Australia/Perth:20260428T183000
DTEND;TZID=Australia/Perth:20260428T193000
DTSTAMP:20260420T161823
CREATED:20260217T011728Z
LAST-MODIFIED:20260217T012735Z
UID:6442-1777401000-1777404600@www.stcolsbays.wa.edu.au
SUMMARY:P&F Meeting
DESCRIPTION:
URL:https://www.stcolsbays.wa.edu.au/event/pf-meeting-15
END:VEVENT
END:VCALENDAR