BEGIN:VCALENDAR
VERSION:2.0
PRODID:-//St Columba&#039;s School - ECPv6.3.5//NONSGML v1.0//EN
CALSCALE:GREGORIAN
METHOD:PUBLISH
X-WR-CALNAME:St Columba&#039;s School
X-ORIGINAL-URL:https://www.stcolsbays.wa.edu.au
X-WR-CALDESC:Events for St Columba&#039;s School
REFRESH-INTERVAL;VALUE=DURATION:PT1H
X-Robots-Tag:noindex
X-PUBLISHED-TTL:PT1H
BEGIN:VTIMEZONE
TZID:Australia/Perth
BEGIN:STANDARD
TZOFFSETFROM:+0800
TZOFFSETTO:+0800
TZNAME:AWST
DTSTART:20260101T000000
END:STANDARD
END:VTIMEZONE
BEGIN:VEVENT
DTSTART;VALUE=DATE:20260420
DTEND;VALUE=DATE:20260422
DTSTAMP:20260420T175126
CREATED:20251112T032107Z
LAST-MODIFIED:20251112T032107Z
UID:5971-1776646800-1776733199@www.stcolsbays.wa.edu.au
SUMMARY:Term 2 Commences for Staff and Students
DESCRIPTION:
URL:https://www.stcolsbays.wa.edu.au/event/term-2-commences-for-staff-and-students
END:VEVENT
END:VCALENDAR