BEGIN:VCALENDAR
VERSION:2.0
PRODID:-//St Columba&#039;s School - ECPv6.3.5//NONSGML v1.0//EN
CALSCALE:GREGORIAN
METHOD:PUBLISH
X-ORIGINAL-URL:https://www.stcolsbays.wa.edu.au
X-WR-CALDESC:Events for St Columba&#039;s School
REFRESH-INTERVAL;VALUE=DURATION:PT1H
X-Robots-Tag:noindex
X-PUBLISHED-TTL:PT1H
BEGIN:VTIMEZONE
TZID:Australia/Perth
BEGIN:STANDARD
TZOFFSETFROM:+0800
TZOFFSETTO:+0800
TZNAME:AWST
DTSTART:20250101T000000
END:STANDARD
END:VTIMEZONE
BEGIN:VEVENT
DTSTART;VALUE=DATE:20251217
DTEND;VALUE=DATE:20251219
DTSTAMP:20260421T181852
CREATED:20250211T074632Z
LAST-MODIFIED:20251111T063559Z
UID:5377-1765933200-1766019599@www.stcolsbays.wa.edu.au
SUMMARY:Last day of OSHC for students
DESCRIPTION:
URL:https://www.stcolsbays.wa.edu.au/event/last-day-of-oshc-for-students
END:VEVENT
END:VCALENDAR