BEGIN:VCALENDAR
VERSION:2.0
PRODID:-//St Columba&#039;s School - ECPv6.3.5//NONSGML v1.0//EN
CALSCALE:GREGORIAN
METHOD:PUBLISH
X-ORIGINAL-URL:https://www.stcolsbays.wa.edu.au
X-WR-CALDESC:Events for St Columba&#039;s School
REFRESH-INTERVAL;VALUE=DURATION:PT1H
X-Robots-Tag:noindex
X-PUBLISHED-TTL:PT1H
BEGIN:VTIMEZONE
TZID:Australia/Perth
BEGIN:STANDARD
TZOFFSETFROM:+0800
TZOFFSETTO:+0800
TZNAME:AWST
DTSTART:20250101T000000
END:STANDARD
END:VTIMEZONE
BEGIN:VEVENT
DTSTART;VALUE=DATE:20251210
DTEND;VALUE=DATE:20251212
DTSTAMP:20260422T050932
CREATED:20241205T044739Z
LAST-MODIFIED:20251209T073405Z
UID:5266-1765328400-1765414799@www.stcolsbays.wa.edu.au
SUMMARY:Reports Distributed
DESCRIPTION:
URL:https://www.stcolsbays.wa.edu.au/event/reports-distributed-5
END:VEVENT
BEGIN:VEVENT
DTSTART;TZID=Australia/Perth:20251210T090000
DTEND;TZID=Australia/Perth:20251210T100000
DTSTAMP:20260422T050932
CREATED:20241205T044835Z
LAST-MODIFIED:20241205T095658Z
UID:5268-1765357200-1765360800@www.stcolsbays.wa.edu.au
SUMMARY:School Mass/PP Nativity/Year 6 Farewell
DESCRIPTION:
URL:https://www.stcolsbays.wa.edu.au/event/school-mass-pp-nativity-year-6-farewell-3
END:VEVENT
END:VCALENDAR